BEGIN:VCALENDAR
VERSION:2.0
PRODID:-//Center For Great Lakes Literacy - ECPv6.15.17.1//NONSGML v1.0//EN
CALSCALE:GREGORIAN
METHOD:PUBLISH
X-WR-CALNAME:Center For Great Lakes Literacy
X-ORIGINAL-URL:https://cgll.org
X-WR-CALDESC:Events for Center For Great Lakes Literacy
REFRESH-INTERVAL;VALUE=DURATION:PT1H
X-Robots-Tag:noindex
X-PUBLISHED-TTL:PT1H
BEGIN:VTIMEZONE
TZID:America/Detroit
BEGIN:DAYLIGHT
TZOFFSETFROM:-0500
TZOFFSETTO:-0400
TZNAME:EDT
DTSTART:20250309T070000
END:DAYLIGHT
BEGIN:STANDARD
TZOFFSETFROM:-0400
TZOFFSETTO:-0500
TZNAME:EST
DTSTART:20251102T060000
END:STANDARD
BEGIN:DAYLIGHT
TZOFFSETFROM:-0500
TZOFFSETTO:-0400
TZNAME:EDT
DTSTART:20260308T070000
END:DAYLIGHT
BEGIN:STANDARD
TZOFFSETFROM:-0400
TZOFFSETTO:-0500
TZNAME:EST
DTSTART:20261101T060000
END:STANDARD
BEGIN:DAYLIGHT
TZOFFSETFROM:-0500
TZOFFSETTO:-0400
TZNAME:EDT
DTSTART:20270314T070000
END:DAYLIGHT
BEGIN:STANDARD
TZOFFSETFROM:-0400
TZOFFSETTO:-0500
TZNAME:EST
DTSTART:20271107T060000
END:STANDARD
END:VTIMEZONE
BEGIN:VEVENT
DTSTART;TZID=America/Detroit:20260422T000000
DTEND;TZID=America/Detroit:20260523T235959
DTSTAMP:20260424T054633
CREATED:20260310T164856Z
LAST-MODIFIED:20260401T203929Z
UID:2307-1776816000-1779580799@cgll.org
SUMMARY:2026 Great Lakes BioBlitz: 4/22-5/23
DESCRIPTION:Celebrate Earth Day with the Center for Great Lakes Literacy and Great Lakes Sea Grant Network’s 7th Annual Great Lakes BioBlitz! This event is a great opportunity to engage youth and the public in community science\, collect data to support biodiversity research and conservation\, and learn more about the organisms in the Great Lakes Basin. \n\nWhat: A free event that focuses on finding and identifying as many wild\, living things as possible in the Canadian provinces and the U.S. states connected to the Great Lakes. You need not be in the Great Lakes basin watershed to participate\, just in a Great Lakes state or province.\nWho: Open to All – you may participate as an individual\, a family\, a business team\, or other group!\nWhen: The BioBlitz begins on Earth Day (Wednesday\, April 22\, 2026) and it runs for 4 weeks\, ending on Saturday\, May 23\, 2026.\nHow: Joining is as easy as saying “One-two-three-CHEESE!”\n\nVisit iNaturalist or download the app onto your phone and create an account.\nBecome a member of the 2026 Great Lakes BioBlitz project.\nGet outside\, get out your cameras\, and start making and posting observations!\nAdditional action: As you are able\, verify other participants’ Great Lakes BioBlitz Project postings to make them “research grade.”\n\n\nWhy: There are many benefits of becoming a BioBlitz wizard\, here are just a few:\n\nEngage in an outdoor activity\, discover the wild living things in the world around you\, form and strengthen a place-based connection\nJoin a global community of observers\, learners\, and scientists passionate about biodiversity and the Great Lakes\nContribute to a global database of organisms. Observations made on iNaturalist contribute to research\, conservation\, and educational outreach programs\n\n\n\nSign up for and learn more about the Great Lakes BioBlitz here – including project and educator resources for engaging youth in this wonderful learning experience!
URL:https://cgll.org/event/2026-great-lakes-bioblitz-4-22-5-23/
ATTACH;FMTTYPE=image/png:https://cgll.org/wp-content/uploads/2026/03/2026_BioBlitz_Social.png
END:VEVENT
END:VCALENDAR